Workbook

Sheet 個別チャート (新基準) (2)
A2: 自主防災会 保有資機材調査票 資料３－１
A3: 令和8年度 | D3: 自主防災会 | E3: 世帯数 | F3: =HLOOKUP($C$3,'[1]集計（比較用）'!$F$3:$CF$98,2,FALSE) -> #N/A | H3: 町内会数 | I3: =HLOOKUP($C$3,'[1]集計（比較用）'!$F$3:$CF$98,3,FALSE) -> #N/A | J3: 評価について | M3: 0%=E、0以上25％未満＝D、25以上50％未満=C、50以上75％未満＝B、75以上100％未満=A、100以上＝AA
A4: ='[1]集計（比較用）'!A7 -> 区分 | B4: ='[1]集計（比較用）'!B7 -> 種別 | C4: ='[1]集計（比較用）'!C7 -> 品名 | D4: 新基準 | E4: 自主防災会の目安 | F4: 現数量 | G4: 到達度（％） | I4: 評価 | K4: 区分 | L4: 種別 | M4: 品名 | N4: 新基準 | O4: 自主防災会の目安 | P4: 現数量 | Q4: 到達度（％） | S4: 評価
A5: 情報 | B5: ='[1]集計（比較用）'!B8 -> 1 | C5: ='[1]集計（比較用）'!C8 -> トランシーバー（簡易無線機） | D5: =[1]新基準の到達目安!D8 -> 町内会数＋2 | G5: =IF(H5>1,1,H5) -> 0 | K5: 避難生活 | L5: ='[1]集計（比較用）'!B50 -> 42 | M5: ='[1]集計（比較用）'!C50 -> 照明器具（強力ライト） | N5: =[1]新基準の到達目安!D54 -> 50世帯ごとに1 | Q5: =IF(R5>1,1,R5) -> 1 | R5: =IF(O5>0,SUM(P5:P8)/O5,"")
B6: ='[1]集計（比較用）'!B9 -> 2 | C6: ='[1]集計（比較用）'!C9 -> 拡声器（大型） | D6: =[1]新基準の到達目安!D9 -> 300世帯ごとに1 | G6: =IF(H6>1,1,H6) -> 0 | L6: ='[1]集計（比較用）'!B51 -> 43 | M6: ='[1]集計（比較用）'!C51 -> 照明器具（サーチライト）
B7: ='[1]集計（比較用）'!B10 -> 3 | C7: ='[1]集計（比較用）'!C10 -> 拡声器（ポータブル型） | D7: =[1]新基準の到達目安!D12 -> 町内会数＋2 | G7: =IF(H7>1,1,H7) -> 0 | L7: ='[1]集計（比較用）'!B52 -> 44 | M7: ='[1]集計（比較用）'!C52 -> 照明器具（投光器）
B8: ='[1]集計（比較用）'!B11 -> 4 | C8: ='[1]集計（比較用）'!C11 -> 拡声器（ハンディ型） | L8: ='[1]集計（比較用）'!B53 -> 45 | M8: ='[1]集計（比較用）'!C53 -> 照明器具（照明用三脚）
B9: ='[1]集計（比較用）'!B12 -> 4 | C9: ='[1]集計（比較用）'!C12 -> 拡声器（ポータブル＋ハンディ） | G9: =IF(H9>1,1,H9) -> 0 | L9: ='[1]集計（比較用）'!B54 -> 0 | M9: ='[1]集計（比較用）'!C54 -> 照明器具合計
B10: ='[1]集計（比較用）'!B13 -> 5 | C10: ='[1]集計（比較用）'!C13 -> 情報用品 その他（無線機用アンテナ、旗、半鐘、サイレン、ラジオ | L10: ='[1]集計（比較用）'!B55 -> 46 | M10: ='[1]集計（比較用）'!C55 -> 毛布（搬送用・生活用） | N10: =[1]新基準の到達目安!D55 -> 4世帯ごとに1 | Q10: =IF(R10>1,1,R10) -> 1 | R10: =IF(O10>0,P10/O10,"")
C11: =HLOOKUP($C$3,'[1]集計（比較用）'!$A$3:$CF$110,83,FALSE) -> #N/A | L11: ='[1]集計（比較用）'!B56 -> 47 | M11: ='[1]集計（比較用）'!C56 -> 発電機 | N11: =[1]新基準の到達目安!D56 -> 100世帯ごとに1 | Q11: =IF(R11>1,1,R11) -> 1 | R11: =IF(O11>0,P11/O11,"")
A12: 消火 | B12: ='[1]集計（比較用）'!B14 -> 6 | C12: ='[1]集計（比較用）'!C14 -> 街頭用消火器（10型以上） | D12: =[1]新基準の到達目安!D14 -> 30世帯ごとに1 | G12: =IF(H12>1,1,H12) -> 0 | L12: ='[1]集計（比較用）'!B57 -> 48 | M12: ='[1]集計（比較用）'!C57 -> コードリール（延長コード含む）
B13: ='[1]集計（比較用）'!B15 -> 7 | C13: ='[1]集計（比較用）'!C15 -> 街頭用消火器格納庫 | D13: =[1]新基準の到達目安!D15 -> 30世帯ごとに1 | G13: =IF(H13>1,1,H13) -> 0 | L13: ='[1]集計（比較用）'!B58 -> 49 | M13: ='[1]集計（比較用）'!C58 -> 浄水器 | N13: =[1]新基準の到達目安!D58 -> 300世帯ごとに1 | Q13: =IF(R13>1,1,R13) -> 1 | R13: =IF(O13>0,P13/O13,"")
B14: ='[1]集計（比較用）'!B16 -> 8 | C14: ='[1]集計（比較用）'!C16 -> 消火用可搬ポンプ | D14: =[1]新基準の到達目安!D16 -> 町内会数×1 | G14: =IF(H14>1,1,H14) -> 0 | L14: ='[1]集計（比較用）'!B59 -> 50 | M14: ='[1]集計（比較用）'!C59 -> 給水ポンプ | N14: 上限なし
B15: ='[1]集計（比較用）'!B17 -> 9 | C15: ='[1]集計（比較用）'!C17 -> 可搬ポンプ用ホース | D15: =[1]新基準の到達目安!D17 -> 町内会数×3 | G15: =IF(H15>1,1,H15) -> 0 | L15: ='[1]集計（比較用）'!B60 -> 51 | M15: ='[1]集計（比較用）'!C60 -> 給水容器（ポリタンク・給水袋等） | N15: 上限なし
B16: ='[1]集計（比較用）'!B18 -> 10 | C16: ='[1]集計（比較用）'!C18 -> 可搬ポンプ用ホース 格納箱 | D16: =[1]新基準の到達目安!D18 -> 町内会数×3 | G16: =IF(H16>1,1,H16) -> 0 | L16: ='[1]集計（比較用）'!B61 -> 52 | M16: ='[1]集計（比較用）'!C61 -> 受水槽 | N16: =[1]新基準の到達目安!D61 -> 300世帯ごとに1 | Q16: =IF(R16>1,1,R16) -> 1 | R16: =IF(O16>0,P16/O16,"")
B17: ='[1]集計（比較用）'!B19 -> 11 | C17: ='[1]集計（比較用）'!C19 -> 消火用バケツ | D17: 上限なし | L17: ='[1]集計（比較用）'!B62 -> 53 | M17: ='[1]集計（比較用）'!C62 -> 工具セット
B18: ='[1]集計（比較用）'!B20 -> 12 | C18: ='[1]集計（比較用）'!C20 -> 訓練用水消火器 | L18: ='[1]集計（比較用）'!B63 -> 54 | M18: ='[1]集計（比較用）'!C63 -> 防災用テント
B19: ='[1]集計（比較用）'!B21 -> 13 | C19: ='[1]集計（比較用）'!C21 -> 消火用品 その他（可搬ポンプ用品、消火栓用品、エンジンポンプ | L19: ='[1]集計（比較用）'!B64 -> 55 | M19: ='[1]集計（比較用）'!C64 -> 防災テント用品 | N19: =[1]新基準の到達目安!D64 -> 100世帯ごとに1 | Q19: =IF(R19>1,1,R19) -> 1 | R19: =IF(O19>0,P19/O19,"")
C20: =HLOOKUP($C$3,'[1]集計（比較用）'!$A$3:$CF$110,84,FALSE) -> #N/A | L20: ='[1]集計（比較用）'!B65 -> 56 | M20: ='[1]集計（比較用）'!C65 -> 簡易トイレセット
L21: ='[1]集計（比較用）'!B66 -> 57 | M21: ='[1]集計（比較用）'!C66 -> 自炊用品（かまど・鍋など） | N21: =[1]新基準の到達目安!D66 -> 100世帯ごとに1 | Q21: =IF(R21>1,1,R21) -> 1 | R21: =IF(O21>0,P21/O21,"")
A22: 救助 | B22: ='[1]集計（比較用）'!B22 -> 14 | C22: ='[1]集計（比較用）'!C22 -> レスキューセット | D22: 上限なし | L22: ='[1]集計（比較用）'!B67 -> 58 | M22: ='[1]集計（比較用）'!C67 -> 紙オムツ
B23: ='[1]集計（比較用）'!B23 -> 15 | C23: ='[1]集計（比較用）'!C23 -> チェンソー | D23: =[1]新基準の到達目安!D23 -> 町内会数×1 | G23: =IF(H23>1,1,H23) -> 0 | L23: ='[1]集計（比較用）'!B68 -> 59 | M23: ='[1]集計（比較用）'!C68 -> ビニールシート
B24: ='[1]集計（比較用）'!B24 -> 16 | C24: ='[1]集計（比較用）'!C24 -> エンジンカッター | D24: =[1]新基準の到達目安!D24 -> 町内会数×0.5 | G24: =IF(H24>1,1,H24) -> 0 | L24: ='[1]集計（比較用）'!B69 -> 60 | M24: ='[1]集計（比較用）'!C69 -> ヘルメット
B25: ='[1]集計（比較用）'!B25 -> 17 | C25: ='[1]集計（比較用）'!C25 -> バール | D25: =[1]新基準の到達目安!D25 -> 町内会数×3 | G25: =IF(H25>1,1,H25) -> 0 | L25: ='[1]集計（比較用）'!B70 -> 61 | M25: ='[1]集計（比較用）'!C70 -> ベスト・腕章・名札・ビブス
B26: ='[1]集計（比較用）'!B26 -> 18 | C26: ='[1]集計（比較用）'!C26 -> スコップ | D26: =[1]新基準の到達目安!D26 -> 町内会数×3 | G26: =IF(H26>1,1,H26) -> 0 | L26: ='[1]集計（比較用）'!B71 -> 62 | M26: ='[1]集計（比較用）'!C71 -> 机
B27: ='[1]集計（比較用）'!B27 -> 19 | C27: ='[1]集計（比較用）'!C27 -> ジャッキ | D27: =[1]新基準の到達目安!D27 -> 町内会数×3 | G27: =IF(H27>1,1,H27) -> 0 | L27: ='[1]集計（比較用）'!B72 -> 63 | M27: ='[1]集計（比較用）'!C72 -> 防災倉庫 | N27: =[1]新基準の到達目安!D72 -> 300世帯ごとに1 | Q27: =IF(R27>1,1,R27) -> 1 | R27: =IF(O27>0,P27/O27,"")
B28: ='[1]集計（比較用）'!B28 -> 20 | C28: ='[1]集計（比較用）'!C28 -> 大ハンマー | D28: =[1]新基準の到達目安!D28 -> 町内会数×2 | G28: =IF(H28>1,1,H28) -> 0 | L28: ='[1]集計（比較用）'!B73 -> 64 | M28: ='[1]集計（比較用）'!C73 -> 災害用パーテーション
B29: ='[1]集計（比較用）'!B29 -> 21 | C29: ='[1]集計（比較用）'!C29 -> 梯子（はしご）（脚立含む） | D29: =[1]新基準の到達目安!D29 -> 町内会数×1 | G29: =IF(H29>1,1,H29) -> 0 | L29: ='[1]集計（比較用）'!B74 -> 65 | M29: ='[1]集計（比較用）'!C74 -> ベッド（段ボール、他）
B30: ='[1]集計（比較用）'!B30 -> 22 | C30: ='[1]集計（比較用）'!C30 -> 鋸（のこぎり） | D30: =[1]新基準の到達目安!D30 -> 町内会数×3 | G30: =IF(H30>1,1,H30) -> 0 | L30: ='[1]集計（比較用）'!B75 -> 66 | M30: ='[1]集計（比較用）'!C75 -> 災害用トイレ用品（便座等
B31: ='[1]集計（比較用）'!B31 -> 23 | C31: ='[1]集計（比較用）'!C31 -> つるはし | D31: =[1]新基準の到達目安!D31 -> 町内会数×1 | G31: =IF(H31>1,1,H31) -> 0 | M31: =HLOOKUP($C$3,'[1]集計（比較用）'!$A$3:$CF$110,89,FALSE) -> #N/A
B32: ='[1]集計（比較用）'!B32 -> 24 | C32: ='[1]集計（比較用）'!C32 -> カケヤ | D32: =[1]新基準の到達目安!D32 -> 町内会数×1 | G32: =IF(H32>1,1,H32) -> 0
B33: ='[1]集計（比較用）'!B33 -> 25 | C33: ='[1]集計（比較用）'!C33 -> 鉄線バサミ（ボルトクリッパー） | D33: =[1]新基準の到達目安!D33 -> 町内会数×1 | G33: =IF(H33>1,1,H33) -> 0 | L33: ='[1]集計（比較用）'!B76 -> 67 | M33: ='[1]集計（比較用）'!C76 -> 災害用トイレ消耗品
B34: ='[1]集計（比較用）'!B34 -> 26 | C34: ='[1]集計（比較用）'!C34 -> とび口 | D34: =[1]新基準の到達目安!D34 -> 町内会数×1 | G34: =IF(H34>1,1,H34) -> 0 | M34: =HLOOKUP($C$3,'[1]集計（比較用）'!$A$3:$CF$110,90,FALSE) -> #N/A
B35: ='[1]集計（比較用）'!B35 -> 27 | C35: ='[1]集計（比較用）'!C35 -> 弁慶（万能斧・トップマントビ） | D35: =[1]新基準の到達目安!D35 -> 町内会数×1 | G35: =IF(H35>1,1,H35) -> 0
B36: ='[1]集計（比較用）'!B36 -> 28 | C36: ='[1]集計（比較用）'!C36 -> ロープ | D36: =[1]新基準の到達目安!D36 -> 町内会数×3 | G36: =IF(H36>1,1,H36) -> 0 | L36: ='[1]集計（比較用）'!B77 -> 68 | M36: ='[1]集計（比較用）'!C77 -> 避難生活用品 その他(自炊用品以外）
B37: ='[1]集計（比較用）'!B37 -> 29 | C37: ='[1]集計（比較用）'!C37 -> リヤカー | D37: =[1]新基準の到達目安!D37 -> 町内会数×2 | G37: =IF(H37>1,1,H37) -> 0 | M37: =HLOOKUP($C$3,'[1]集計（比較用）'!$A$3:$CF$110,91,FALSE) -> #N/A | V37: 評価基準
B38: ='[1]集計（比較用）'!B38 -> 30 | C38: ='[1]集計（比較用）'!C38 -> 一輪車 | D38: =[1]新基準の到達目安!D38 -> 町内会数×0.5 | G38: =IF(H38>1,1,H38) -> 0 | V38: 達成度（％） | W38: 評価
B39: ='[1]集計（比較用）'!B39 -> 31 | C39: ='[1]集計（比較用）'!C39 -> 誘導灯 | D39: =[1]新基準の到達目安!D39 -> 町内会数×2 | G39: =IF(H39>1,1,H39) -> 0 | L39: ='[1]集計（比較用）'!B78 -> 69 | M39: ='[1]集計（比較用）'!C78 -> 避難生活用品 その他（自炊用品以外） 消耗 | V39: 0 | W39: E
B40: ='[1]集計（比較用）'!B40 -> 32 | C40: ='[1]集計（比較用）'!C40 -> ゴムボート | D40: 上限なし | M40: =HLOOKUP($C$3,'[1]集計（比較用）'!$A$3:$CF$110,92,FALSE) -> #N/A | V40: 0.25 | W40: D
B41: ='[1]集計（比較用）'!B41 -> 33 | C41: ='[1]集計（比較用）'!C41 -> 救助用品 その他 | V41: 0.5 | W41: C
...
