Workbook
Name 愛知県: #REF!
Name 愛媛県: #REF!
Name 茨城県: #REF!
Name 岡山県: #REF!
Name 沖縄県: #REF!
Name 岩手県: #REF!
Name 岐阜県: #REF!
Name 宮崎県: #REF!
Name 宮城県: #REF!
Name 居住地: #REF!
Name 京都府: #REF!
Name 熊本県: #REF!
Name 群馬県: #REF!
Name 広島県: #REF!
Name 香川県: #REF!
Name 高知県: #REF!
Name 国名: #REF!
Name 佐賀県: #REF!
Name 埼玉県: #REF!
Name 三重県: #REF!
Name 山形県: #REF!
Name 山口県: #REF!
Name 山梨県: #REF!
Name 滋賀県: #REF!
Name 鹿児島県: #REF!
Name 秋田県: #REF!
Name 新潟県: #REF!
Name 神奈川県: #REF!
Name 青森県: #REF!
Name 静岡県: #REF!
Name 石川県: #REF!
Name 千葉県: #REF!
Name 相続型: #REF!
Name 相続表: #REF!
Name 大阪府: #REF!
Name 大分県: #REF!
Name 長崎県: #REF!
Name 長野県: #REF!
Name 鳥取県: #REF!
Name 都道府県名: #REF!
Name 島根県: #REF!
Name 東京都: #REF!
Name 徳島県: #REF!
Name 栃木県: #REF!
Name 奈良県: #REF!
Name 富山県: #REF!
Name 福井県: #REF!
Name 福岡県: #REF!
Name 福島県: #REF!
Name 兵庫県: #REF!
Name 法人国名: #REF!
Name 北海道: #REF!
Name 和歌山県: #REF!

Sheet 土地の所有者届出7条
AN1: ID | BD1: 予備１ | BE1: 予備２ | BF1: 予備３ | BG1: 予備４ | BH1: 更新者 | BI1: 更新日付
B2: ３ 規則第７条第１項の届出書の様式 | BD2: ※削除？
B3: 森林の土地の所有者届出書
K5: 殿
C7: 次のとおり新たに森林の土地の所有者となつたので、森林法第10条の７の２第１項の規定により届け出ます。
B9: １ 所有権の移転に関する事項
B10: 所有権移転年月日 ※１ | P10: 所有権移転の原因 ※２
B11: 届出人である新所有者（譲受人、相続人等） | V11: 前所有者（譲渡人、被相続人等） | AK11: 売買 | AN11: 届出の種類 | AO11: ※確認 未使用
B12: 全ての届出人が記載 | C12: 氏名（法人の場合は名称） | V12: 前所有者氏名（法人の場合は名称） | AK12: 相続
AK13: その他（）
V14: （法人の場合の代表者名） | AN14: 反映 | AO14: 反映者 | AP14: 反映日付 | AR14: 予備１ | AS14: 予備２
C15: 住所（法人の場合は本店の所在地） ※３ | V15: 前所有者住所（法人の場合は本店の所在地）
C16: 〒 | V16: 〒 | AN16: ※確認 未使用
C18: 連絡先 ※３ | F18: 電話番号 | V18: ※１ 売買の場合は土地の引渡しの日、相続 の場合は相続開始の日（被相続人の死 亡の日）、相続に伴う遺産分割協議の 終了の場合はその終了の日を記載 ※２ 所有権移転の原因をレ印で選択。その 他の場合は、贈与、会社の合併など具 体的に記載 ※３ 住所（法人の場合は本店の所在地）が 国外の場合は、国内の連絡先を別紙で 提出 ※４ 法人の場合はその設立に当たつて準拠 した法令を制定した国についてレ印で 選択及び記載 ※５ 日本国籍以外で「永住者又は特別永住 者」に該当する場合にレ印で選択（個 人に限る） ※６ 持分会社の場合は業務を執行する社員 について記載。それが法人である場合 は※４と同様 ※７ 議決権保有者が法人である場合は※４ と同様 ※８ 役員又は議決権について、過半を占め る国がない場合にレ印で選択
F19: メールアドレス
C20: 国籍等 ※４※５ | F20: 日本国籍以外（永住者）（国名等：中国） | AK20: 日本国籍
AK21: 日本国籍以外（永住者）（国名等：）
AK22: 日本国籍以外（永住者ではない）（国名等：）
B23: 届出人が法人の場合のみ記載 | C23: 代表者 | E23: 代表者の氏名（代表者が法人の場合は法人名）
E25: 国籍等 ※４※５ | AN25: ※レ点で選択という文言を変えるのか
C28: 役員 | AK28: 日本国籍の者が役員等の過半を占める
AK29: 日本国籍以外の同一国の者が役員等の過半を占める（国名等：）
AK30: 上記のいずれにも該当しない ※８
C31: ※６
C32: 議決権 | AK32: 日本国籍の者が議決権等の過半を保有
AK33: 日本国籍以外の同一国の者が議決権等の過半を保有（国名等：）
AK34: 上記のいずれにも該当しない ※８
C35: ※７
B37: ２ 土地に関する事項
B38: 番 | C38: 土地の所在場所 ※１ | Q38: 面積(ha) ※２ | U38: 持分割合 ※３ | Y38: ※１ 一筆の土地ごとに記載。全て の筆を記載できない場合は、 記載欄の形式に準じて別紙に 記載 ※２ ヘクタール単位で小数第５位 を四捨五入し、小数第４位ま で記載 ※３ 新たに所有者となつた土地に ついて共有している場合、届 出人の持分割合を記載
C39: 市町村名、大字、字 等 | M39: 地番
B40: 1
B41: 2
B42: 3
B43: 4
B44: 5
B45: 合計 | Q45: =SUM(Q40:T44)+'別紙（土地情報）'!E53 -> 0
B47: ３ その他参考となる事項
B48: 森林の土地の用途 | AK48: 森林として所有
AK49: 林地の開発（具体的には:）
...

Sheet データ更新用
A1: ID | B1: 市町村長 | C1: 届出日 | D1: 所有権移転年月日 | E1: 所有権の移転の原因 | F1: 新所有者氏名 | G1: 新所有者持分割合 | H1: 新所有者郵便番号 | I1: 新所有者住所 | J1: 新所有者電話番号 | K1: 新所有者メールアドレス | L1: 新所有者国籍 | M1: 前所有者氏名 | N1: 前所有者代表者名 | O1: 前所有者郵便番号 | P1: 前所有者住所 | Q1: 代表氏名 | R1: 代表国籍 | S1: 役員国籍 | T1: 議決権国籍 | U1: 森林の土地の用途 | V1: 森林の土地の境界 | W1: 備考 | X1: 国内連絡先氏名 | Y1: 国内連絡先郵便番号 | Z1: 国内連絡先住所 | AA1: 国内連絡先電話番号 | AB1: 国内連絡先メールアドレス | AC1: 国内連絡先担当課 | AD1: 国内連絡先届出人との関係 | AE1: 届出の種類 | AF1: 反映 | AG1: 反映者 | AH1: 反映日付 | AI1: 予備１ | AJ1: 予備２
A2: =土地の所有者届出7条!AN2&"" | B2: =土地の所有者届出7条!D5&"" | C2: =土地の所有者届出7条!Y4&"" | D2: =土地の所有者届出7条!H10&"" | E2: =土地の所有者届出7条!V10&"" | F2: =土地の所有者届出7条!C13&"" | G2: ='別紙（新所有者）'!U8&"" | H2: =土地の所有者届出7条!D16&"" | I2: =土地の所有者届出7条!C17&"" | J2: =土地の所有者届出7条!I18&"" | K2: =土地の所有者届出7条!I19&"" | L2: =土地の所有者届出7条!F20&"" -> 日本国籍以外（永住者）（国名等：中国） | M2: =土地の所有者届出7条!V13&"" | N2: =土地の所有者届出7条!AA14&"" | O2: =土地の所有者届出7条!W16&"" | P2: =土地の所有者届出7条!V17&"" | Q2: =土地の所有者届出7条!E24&"" | R2: =土地の所有者届出7条!G25&"" | S2: =土地の所有者届出7条!E28&"" | T2: =土地の所有者届出7条!E32&"" | U2: =土地の所有者届出7条!G48&"" | V2: =土地の所有者届出7条!G51&"" | W2: =土地の所有者届出7条!G52&"" | X2: ='別紙（連絡先）'!C7&"" | Y2: ='別紙（連絡先）'!D8&"" | Z2: ='別紙（連絡先）'!C9&"" | AA2: ='別紙（連絡先）'!C10&"" | AB2: ='別紙（連絡先）'!C11&"" | AC2: ='別紙（連絡先）'!C12&"" | AD2: ='別紙（連絡先）'!C13&"" | AE2: =土地の所有者届出7条!AN12&"" | AF2: =土地の所有者届出7条!AN15&"" | AG2: =土地の所有者届出7条!AO15&"" | AH2: =土地の所有者届出7条!AP15&"" | AI2: =土地の所有者届出7条!AR15&"" | AJ2: =土地の所有者届出7条!AS15&""

Sheet 別紙（新所有者）
D1: 【注】本シートは、遺産分割協議未了のため、法定相続分の持分割合をもって、相続人全員が共同で届け出る場合のみ提出の対象としてください。
B4: 別紙 「１ 所有権の移転に関する事項」のうち、届出人である新所有者 について
C6: ※届出人は下記のとおりであり、全員が共同で届け出るものである。 また、「２ 土地に関する事項」の全ての筆について、下記記載の持分割合により 共有しているものである。
AC7: ID
D8: 1 | E8: 氏名 | H8: =土地の所有者届出7条!C13&"" | S8: 持分 割合
E10: 住所 | H10: 〒 | I10: =土地の所有者届出7条!D16&""
H11: =土地の所有者届出7条!C17&"" | AB11: 日本国籍
E12: 連絡先 | H12: 電話番号 | K12: =土地の所有者届出7条!I18&"" | AB12: 日本国籍以外（永住者）（国名等：）
H13: メールアドレス | K13: =土地の所有者届出7条!I19&"" | AB13: 日本国籍以外（永住者ではない）（国名等：）
E14: 国籍等 | H14: =土地の所有者届出7条!F20&"" -> 日本国籍以外（永住者）（国名等：中国）
D17: 2 | E17: 氏名 | S17: 持分 割合 | AC17: ID
E19: 住所 | H19: 〒
E21: 連絡先 | H21: 電話番号
H22: メールアドレス
E23: 国籍等
D26: 3 | E26: 氏名 | S26: 持分 割合 | AC26: ID
E28: 住所 | H28: 〒
E30: 連絡先 | H30: 電話番号
H31: メールアドレス
E32: 国籍等
D35: 4 | E35: 氏名 | S35: 持分 割合 | AC35: ID
E37: 住所 | H37: 〒
E39: 連絡先 | H39: 電話番号
H40: メールアドレス
E41: 国籍等
D44: 5 | E44: 氏名 | S44: 持分 割合 | AC44: ID
E46: 住所 | H46: 〒
E48: 連絡先 | H48: 電話番号
H49: メールアドレス
E50: 国籍等

Sheet 新所有者データ更新用
A1: DeleteRecord | B1: ID | C1: LinkID | D1: 新所有者氏名 | E1: 新所有者持分割合 | F1: 新所有者郵便番号 | G1: 新所有者住所 | H1: 新所有者電話番号 | I1: 新所有者メールアドレス | J1: 新所有者国籍 | K1: 行番号
A2: =IF(TRIM(CONCATENATE(D2,E2,F2,G2,H2,I2,J2))="",TRUE,FALSE) -> FALSE | C2: =土地の所有者届出7条!$AN$2&"" | D2: =土地の所有者届出7条!C13&"" | E2: ='別紙（新所有者）'!U8&"" | F2: =土地の所有者届出7条!D16&"" | G2: =土地の所有者届出7条!C17&"" | H2: =土地の所有者届出7条!I18&"" | I2: =土地の所有者届出7条!I19&"" | J2: =土地の所有者届出7条!F20&"" -> 日本国籍以外（永住者）（国名等：中国） | K2: 1
A3: =IF(TRIM(CONCATENATE(D3,E3,F3,G3,H3,I3,J3))="",TRUE,FALSE) -> TRUE | C3: =土地の所有者届出7条!$AN$2&"" | D3: ='別紙（新所有者）'!H17&"" | E3: ='別紙（新所有者）'!U17&"" | F3: ='別紙（新所有者）'!I19&"" | G3: ='別紙（新所有者）'!H20&"" | H3: ='別紙（新所有者）'!K21&"" | I3: ='別紙（新所有者）'!K22&"" | J3: ='別紙（新所有者）'!H41&"" | K3: 2
A4: =IF(TRIM(CONCATENATE(D4,E4,F4,G4,H4,I4,J4))="",TRUE,FALSE) -> TRUE | C4: =土地の所有者届出7条!$AN$2&"" | D4: ='別紙（新所有者）'!H26&"" | E4: ='別紙（新所有者）'!U26&"" | F4: ='別紙（新所有者）'!I28&"" | G4: ='別紙（新所有者）'!H29&"" | H4: ='別紙（新所有者）'!K30&"" | I4: ='別紙（新所有者）'!K31&"" | J4: ='別紙（新所有者）'!H41&"" | K4: 3
A5: =IF(TRIM(CONCATENATE(D5,E5,F5,G5,H5,I5,J5))="",TRUE,FALSE) -> TRUE | C5: =土地の所有者届出7条!$AN$2&"" | D5: ='別紙（新所有者）'!H35&"" | E5: ='別紙（新所有者）'!U35&"" | F5: ='別紙（新所有者）'!I37&"" | G5: ='別紙（新所有者）'!H38&"" | H5: ='別紙（新所有者）'!K30&"" | I5: ='別紙（新所有者）'!K40&"" | J5: ='別紙（新所有者）'!H41&"" | K5: 4
A6: =IF(TRIM(CONCATENATE(D6,E6,F6,G6,H6,I6,J6))="",TRUE,FALSE) -> TRUE | C6: =土地の所有者届出7条!$AN$2&"" | D6: ='別紙（新所有者）'!H44&"" | E6: ='別紙（新所有者）'!U44&"" | F6: ='別紙（新所有者）'!I46&"" | G6: ='別紙（新所有者）'!H47&"" | H6: ='別紙（新所有者）'!K39&"" | I6: ='別紙（新所有者）'!K49&"" | J6: ='別紙（新所有者）'!H50&"" | K6: 5

Sheet 別紙（前所有者）
B1: 【注】本シートは、前所有者が共有で複数名いる場合のみ提出の対象としてください。
B4: 別紙 「１ 所有権の移転に関する事項」のうち、前所有者について
C6: ※前所有者は、下記の者による共有である。
L7: ID
B8: 1 | C8: 前所有者氏名 （法人の場合は名称） | D8: =土地の所有者届出7条!$V$13&""
C9: （法人の場合の代表者名） | D9: =土地の所有者届出7条!$AA$14&""
C10: 前所有者住所 （法人の場合は本店の所在地） | D10: 〒 | E10: =土地の所有者届出7条!$W$16&""
D11: =土地の所有者届出7条!$V$17&""
B12: 2 | C12: 前所有者氏名 （法人の場合は名称） | L12: ID
C13: （法人の場合の代表者名）
C14: 前所有者住所 （法人の場合は本店の所在地） | D14: 〒
B16: 3 | C16: 前所有者氏名 （法人の場合は名称） | L16: ID
C17: （法人の場合の代表者名）
C18: 前所有者住所 （法人の場合は本店の所在地） | D18: 〒
B20: 4 | C20: 前所有者氏名 （法人の場合は名称） | L20: ID
C21: （法人の場合の代表者名）
C22: 前所有者住所 （法人の場合は本店の所在地） | D22: 〒
B24: 5 | C24: 前所有者氏名 （法人の場合は名称） | L24: ID
C25: （法人の場合の代表者名）
C26: 前所有者住所 （法人の場合は本店の所在地） | D26: 〒

Sheet 前所有者データ更新用
A1: DeleteRecord | B1: ID | C1: LinkID | D1: 前所有者氏名 | E1: 前所有者代表者名 | F1: 前所有者郵便番号 | G1: 前所有者住所 | H1: 行番号
A2: =IF(TRIM(CONCATENATE(D2,E2,F2,G2))="",TRUE,FALSE) -> TRUE | C2: =土地の所有者届出7条!$AN$2&"" | D2: =土地の所有者届出7条!V13&"" | E2: =土地の所有者届出7条!AA14&"" | F2: =土地の所有者届出7条!W16&"" | G2: =土地の所有者届出7条!V17&"" | H2: 1
A3: =IF(TRIM(CONCATENATE(D3,E3,F3,G3))="",TRUE,FALSE) -> TRUE | C3: =土地の所有者届出7条!$AN$2&"" | D3: ='別紙（前所有者）'!D12&"" | E3: ='別紙（前所有者）'!D13&"" | F3: ='別紙（前所有者）'!E14&"" | G3: ='別紙（前所有者）'!D15&"" | H3: 2
A4: =IF(TRIM(CONCATENATE(D4,E4,F4,G4))="",TRUE,FALSE) -> TRUE | C4: =土地の所有者届出7条!$AN$2&"" | D4: ='別紙（前所有者）'!D16&"" | E4: ='別紙（前所有者）'!D17&"" | F4: ='別紙（前所有者）'!E18&"" | G4: ='別紙（前所有者）'!D19&"" | H4: 3
A5: =IF(TRIM(CONCATENATE(D5,E5,F5,G5))="",TRUE,FALSE) -> TRUE | C5: =土地の所有者届出7条!$AN$2&"" | D5: ='別紙（前所有者）'!D20&"" | E5: ='別紙（前所有者）'!D21&"" | F5: ='別紙（前所有者）'!E22&"" | G5: ='別紙（前所有者）'!D23&"" | H5: 4
A6: =IF(TRIM(CONCATENATE(D6,E6,F6,G6))="",TRUE,FALSE) -> TRUE | C6: =土地の所有者届出7条!$AN$2&"" | D6: ='別紙（前所有者）'!D24&"" | E6: ='別紙（前所有者）'!D25&"" | F6: ='別紙（前所有者）'!E26&"" | G6: ='別紙（前所有者）'!D23&"" | H6: 5
G7: ='別紙（前所有者）'!D27&""

Sheet 別紙（土地情報）
B1: 【注】本シートは、届出対象となる森林の土地が６筆以上となる場合のみ提出の対象としてください。
C4: 別紙 「２ 土地に関する事項」
B6: 番 | C6: 土地の所在場所 | E6: 面積（ha） | F6: 持分割合
C7: 市町村名、大字、字 等 | D7: 地番 | H7: ID
B8: 6
B9: 7
B10: 8
B11: 9
B12: 10
B13: 11
B14: 12
B15: 13
B16: 14
B17: 15
B18: 16
B19: 17
... B52: 50
B53: 合計 | E53: =SUM(E8:E52) -> 0

Sheet 土地情報データ更新用
A1: DeleteRecord | B1: ID | C1: LinkID | D1: 所在 | E1: 地番 | F1: 面積ha | G1: 持分割合 | H1: 反映フラグ | I1: 行番号 | J1: 予備１ | K1: 予備２ | L1: 予備３ | M1: 予備４
A2: =IF(TRIM(CONCATENATE(D2,E2,F2,G2))="",TRUE,FALSE) -> TRUE | C2: =土地の所有者届出7条!$AN$2&"" | D2: =土地の所有者届出7条!C40&"" | E2: =土地の所有者届出7条!M40&"" | F2: =土地の所有者届出7条!Q40&"" | G2: =土地の所有者届出7条!U40&"" | I2: 1 | J2: =土地の所有者届出7条!$BD$2&"" -> ※削除？ | K2: =土地の所有者届出7条!$BE$2&"" | L2: =土地の所有者届出7条!$BF$2&"" | M2: =土地の所有者届出7条!$BG$2&""
A3: =IF(TRIM(CONCATENATE(D3,E3,F3,G3))="",TRUE,FALSE) -> TRUE | C3: =土地の所有者届出7条!$AN$2&"" | D3: =土地の所有者届出7条!C41&"" | E3: =土地の所有者届出7条!M41&"" | F3: =土地の所有者届出7条!Q41&"" | G3: =土地の所有者届出7条!U41&"" | I3: 2 | J3: =土地の所有者届出7条!$BD$2&"" -> ※削除？ | K3: =土地の所有者届出7条!$BE$2&"" | L3: =土地の所有者届出7条!$BF$2&"" | M3: =土地の所有者届出7条!$BG$2&""
A4: =IF(TRIM(CONCATENATE(D4,E4,F4,G4))="",TRUE,FALSE) -> TRUE | C4: =土地の所有者届出7条!$AN$2&"" | D4: =土地の所有者届出7条!C42&"" | E4: =土地の所有者届出7条!M42&"" | F4: =土地の所有者届出7条!Q42&"" | G4: =土地の所有者届出7条!U42&"" | I4: 3 | J4: =土地の所有者届出7条!$BD$2&"" -> ※削除？ | K4: =土地の所有者届出7条!$BE$2&"" | L4: =土地の所有者届出7条!$BF$2&"" | M4: =土地の所有者届出7条!$BG$2&""
A5: =IF(TRIM(CONCATENATE(D5,E5,F5,G5))="",TRUE,FALSE) -> TRUE | C5: =土地の所有者届出7条!$AN$2&"" | D5: =土地の所有者届出7条!C43&"" | E5: =土地の所有者届出7条!M43&"" | F5: =土地の所有者届出7条!Q43&"" | G5: =土地の所有者届出7条!U43&"" | I5: 4 | J5: =土地の所有者届出7条!$BD$2&"" -> ※削除？ | K5: =土地の所有者届出7条!$BE$2&"" | L5: =土地の所有者届出7条!$BF$2&"" | M5: =土地の所有者届出7条!$BG$2&""
A6: =IF(TRIM(CONCATENATE(D6,E6,F6,G6))="",TRUE,FALSE) -> TRUE | C6: =土地の所有者届出7条!$AN$2&"" | D6: =土地の所有者届出7条!C44&"" | E6: =土地の所有者届出7条!M44&"" | F6: =土地の所有者届出7条!Q44&"" | G6: =土地の所有者届出7条!U44&"" | I6: 5 | J6: =土地の所有者届出7条!$BD$2&"" -> ※削除？ | K6: =土地の所有者届出7条!$BE$2&"" | L6: =土地の所有者届出7条!$BF$2&"" | M6: =土地の所有者届出7条!$BG$2&""
A7: =IF(TRIM(CONCATENATE(D7,E7,F7,G7))="",TRUE,FALSE) -> TRUE | C7: =土地の所有者届出7条!$AN$2&"" | D7: ='別紙（土地情報）'!C8&"" | E7: ='別紙（土地情報）'!D8&"" | F7: ='別紙（土地情報）'!E8&"" | G7: ='別紙（土地情報）'!F8&"" | I7: 6 | J7: =土地の所有者届出7条!$BD$2&"" -> ※削除？ | K7: =土地の所有者届出7条!$BE$2&"" | L7: =土地の所有者届出7条!$BF$2&"" | M7: =土地の所有者届出7条!$BG$2&""
A8: =IF(TRIM(CONCATENATE(D8,E8,F8,G8))="",TRUE,FALSE) -> TRUE | C8: =土地の所有者届出7条!$AN$2&"" | D8: ='別紙（土地情報）'!C9&"" | E8: ='別紙（土地情報）'!D9&"" | F8: ='別紙（土地情報）'!E9&"" | G8: ='別紙（土地情報）'!F9&"" | I8: 7 | J8: =土地の所有者届出7条!$BD$2&"" -> ※削除？ | K8: =土地の所有者届出7条!$BE$2&"" | L8: =土地の所有者届出7条!$BF$2&"" | M8: =土地の所有者届出7条!$BG$2&""
A9: =IF(TRIM(CONCATENATE(D9,E9,F9,G9))="",TRUE,FALSE) -> TRUE | C9: =土地の所有者届出7条!$AN$2&"" | D9: ='別紙（土地情報）'!C10&"" | E9: ='別紙（土地情報）'!D10&"" | F9: ='別紙（土地情報）'!E10&"" | G9: ='別紙（土地情報）'!F10&"" | I9: 8 | J9: =土地の所有者届出7条!$BD$2&"" -> ※削除？ | K9: =土地の所有者届出7条!$BE$2&"" | L9: =土地の所有者届出7条!$BF$2&"" | M9: =土地の所有者届出7条!$BG$2&""
A10: =IF(TRIM(CONCATENATE(D10,E10,F10,G10))="",TRUE,FALSE) -> TRUE | C10: =土地の所有者届出7条!$AN$2&"" | D10: ='別紙（土地情報）'!C11&"" | E10: ='別紙（土地情報）'!D11&"" | F10: ='別紙（土地情報）'!E11&"" | G10: ='別紙（土地情報）'!F11&"" | I10: 9 | J10: =土地の所有者届出7条!$BD$2&"" -> ※削除？ | K10: =土地の所有者届出7条!$BE$2&"" | L10: =土地の所有者届出7条!$BF$2&"" | M10: =土地の所有者届出7条!$BG$2&""
A11: =IF(TRIM(CONCATENATE(D11,E11,F11,G11))="",TRUE,FALSE) -> TRUE | C11: =土地の所有者届出7条!$AN$2&"" | D11: ='別紙（土地情報）'!C12&"" | E11: ='別紙（土地情報）'!D12&"" | F11: ='別紙（土地情報）'!E12&"" | G11: ='別紙（土地情報）'!F12&"" | I11: 10 | J11: =土地の所有者届出7条!$BD$2&"" -> ※削除？ | K11: =土地の所有者届出7条!$BE$2&"" | L11: =土地の所有者届出7条!$BF$2&"" | M11: =土地の所有者届出7条!$BG$2&""
A12: =IF(TRIM(CONCATENATE(D12,E12,F12,G12))="",TRUE,FALSE) -> TRUE | C12: =土地の所有者届出7条!$AN$2&"" | D12: ='別紙（土地情報）'!C13&"" | E12: ='別紙（土地情報）'!D13&"" | F12: ='別紙（土地情報）'!E13&"" | G12: ='別紙（土地情報）'!F13&"" | I12: 11 | J12: =土地の所有者届出7条!$BD$2&"" -> ※削除？ | K12: =土地の所有者届出7条!$BE$2&"" | L12: =土地の所有者届出7条!$BF$2&"" | M12: =土地の所有者届出7条!$BG$2&""
A13: =IF(TRIM(CONCATENATE(D13,E13,F13,G13))="",TRUE,FALSE) -> TRUE | C13: =土地の所有者届出7条!$AN$2&"" | D13: ='別紙（土地情報）'!C14&"" | E13: ='別紙（土地情報）'!D14&"" | F13: ='別紙（土地情報）'!E14&"" | G13: ='別紙（土地情報）'!F14&"" | I13: 12 | J13: =土地の所有者届出7条!$BD$2&"" -> ※削除？ | K13: =土地の所有者届出7条!$BE$2&"" | L13: =土地の所有者届出7条!$BF$2&"" | M13: =土地の所有者届出7条!$BG$2&""
A14: =IF(TRIM(CONCATENATE(D14,E14,F14,G14))="",TRUE,FALSE) -> TRUE | C14: =土地の所有者届出7条!$AN$2&"" | D14: ='別紙（土地情報）'!C15&"" | E14: ='別紙（土地情報）'!D15&"" | F14: ='別紙（土地情報）'!E15&"" | G14: ='別紙（土地情報）'!F15&"" | I14: 13 | J14: =土地の所有者届出7条!$BD$2&"" -> ※削除？ | K14: =土地の所有者届出7条!$BE$2&"" | L14: =土地の所有者届出7条!$BF$2&"" | M14: =土地の所有者届出7条!$BG$2&""
A15: =IF(TRIM(CONCATENATE(D15,E15,F15,G15))="",TRUE,FALSE) -> TRUE | C15: =土地の所有者届出7条!$AN$2&"" | D15: ='別紙（土地情報）'!C16&"" | E15: ='別紙（土地情報）'!D16&"" | F15: ='別紙（土地情報）'!E16&"" | G15: ='別紙（土地情報）'!F16&"" | I15: 14 | J15: =土地の所有者届出7条!$BD$2&"" -> ※削除？ | K15: =土地の所有者届出7条!$BE$2&"" | L15: =土地の所有者届出7条!$BF$2&"" | M15: =土地の所有者届出7条!$BG$2&""
A16: =IF(TRIM(CONCATENATE(D16,E16,F16,G16))="",TRUE,FALSE) -> TRUE | C16: =土地の所有者届出7条!$AN$2&"" | D16: ='別紙（土地情報）'!C17&"" | E16: ='別紙（土地情報）'!D17&"" | F16: ='別紙（土地情報）'!E17&"" | G16: ='別紙（土地情報）'!F17&"" | I16: 15 | J16: =土地の所有者届出7条!$BD$2&"" -> ※削除？ | K16: =土地の所有者届出7条!$BE$2&"" | L16: =土地の所有者届出7条!$BF$2&"" | M16: =土地の所有者届出7条!$BG$2&""
A17: =IF(TRIM(CONCATENATE(D17,E17,F17,G17))="",TRUE,FALSE) -> TRUE | C17: =土地の所有者届出7条!$AN$2&"" | D17: ='別紙（土地情報）'!C18&"" | E17: ='別紙（土地情報）'!D18&"" | F17: ='別紙（土地情報）'!E18&"" | G17: ='別紙（土地情報）'!F18&"" | I17: 16 | J17: =土地の所有者届出7条!$BD$2&"" -> ※削除？ | K17: =土地の所有者届出7条!$BE$2&"" | L17: =土地の所有者届出7条!$BF$2&"" | M17: =土地の所有者届出7条!$BG$2&""
A18: =IF(TRIM(CONCATENATE(D18,E18,F18,G18))="",TRUE,FALSE) -> TRUE | C18: =土地の所有者届出7条!$AN$2&"" | D18: ='別紙（土地情報）'!C19&"" | E18: ='別紙（土地情報）'!D19&"" | F18: ='別紙（土地情報）'!E19&"" | G18: ='別紙（土地情報）'!F19&"" | I18: 17 | J18: =土地の所有者届出7条!$BD$2&"" -> ※削除？ | K18: =土地の所有者届出7条!$BE$2&"" | L18: =土地の所有者届出7条!$BF$2&"" | M18: =土地の所有者届出7条!$BG$2&""
... A51: =IF(TRIM(CONCATENATE(D51,E51,F51,G51))="",TRUE,FALSE) -> TRUE | C51: =土地の所有者届出7条!$AN$2&"" | D51: ='別紙（土地情報）'!C52&"" | E51: ='別紙（土地情報）'!D52&"" | F51: ='別紙（土地情報）'!E52&"" | G51: ='別紙（土地情報）'!F52&"" | I51: 50 | J51: =土地の所有者届出7条!$BD$2&"" -> ※削除？ | K51: =土地の所有者届出7条!$BE$2&"" | L51: =土地の所有者届出7条!$BF$2&"" | M51: =土地の所有者届出7条!$BG$2&""

Sheet 別紙（連絡先）
B1: 【注】本シートは、届出される方が国外に居住している（法人の場合、本店所在地が国外である）場合のみ提出の対象としてください。
B4: 別紙 「国内の連絡先」について
B7: 氏名又は名称
B8: 住所又は所在地 | C8: 〒
B10: 電話番号
B11: メールアドレス
B12: 担当課等
B13: 届出人との関係
